BEGIN:VCALENDAR
VERSION:2.0
PRODID:-//Sheffield Family History Society - ECPv6.15.20//NONSGML v1.0//EN
CALSCALE:GREGORIAN
METHOD:PUBLISH
X-WR-CALNAME:Sheffield Family History Society
X-ORIGINAL-URL:https://staging.sheffieldfhs.org.uk
X-WR-CALDESC:Events for Sheffield Family History Society
REFRESH-INTERVAL;VALUE=DURATION:PT1H
X-Robots-Tag:noindex
X-PUBLISHED-TTL:PT1H
BEGIN:VTIMEZONE
TZID:UTC
BEGIN:STANDARD
TZOFFSETFROM:+0000
TZOFFSETTO:+0000
TZNAME:UTC
DTSTART:20170101T000000
END:STANDARD
END:VTIMEZONE
BEGIN:VEVENT
DTSTART;TZID=UTC:20180917T073000
DTEND;TZID=UTC:20180917T210000
DTSTAMP:20260426T040400
CREATED:20180823T135316Z
LAST-MODIFIED:20180823T135316Z
UID:1200-1537169400-1537218000@staging.sheffieldfhs.org.uk
SUMMARY:The Suffragette the Silversmith and the Sheiks Creator
DESCRIPTION:The Society Meeting talk is presented by Ann Beedham \nHear about three local ladies who contributed to art\, literature and politics\, but who have now largely been forgotten.
URL:https://staging.sheffieldfhs.org.uk/event/suffragette-silversmith-sheiks-creator/
LOCATION:Cemetery Road Baptist Chapel\, Napier Street entrance\, Sheffield \, S11 8HA
ATTACH;FMTTYPE=image/jpeg:https://staging.sheffieldfhs.org.uk/wp-content/uploads/2018/08/My-Books-homepage-800x592.jpg
END:VEVENT
END:VCALENDAR