BEGIN:VCALENDAR
VERSION:2.0
PRODID:-//Sheffield Family History Society - ECPv6.15.20//NONSGML v1.0//EN
CALSCALE:GREGORIAN
METHOD:PUBLISH
X-WR-CALNAME:Sheffield Family History Society
X-ORIGINAL-URL:https://staging.sheffieldfhs.org.uk
X-WR-CALDESC:Events for Sheffield Family History Society
REFRESH-INTERVAL;VALUE=DURATION:PT1H
X-Robots-Tag:noindex
X-PUBLISHED-TTL:PT1H
BEGIN:VTIMEZONE
TZID:UTC
BEGIN:STANDARD
TZOFFSETFROM:+0000
TZOFFSETTO:+0000
TZNAME:UTC
DTSTART:20180101T000000
END:STANDARD
END:VTIMEZONE
BEGIN:VEVENT
DTSTART;TZID=UTC:20190121T193000
DTEND;TZID=UTC:20190121T210000
DTSTAMP:20260425T222432
CREATED:20181122T181415Z
LAST-MODIFIED:20181122T181432Z
UID:1233-1548099000-1548104400@staging.sheffieldfhs.org.uk
SUMMARY:January Talk
DESCRIPTION:The ghostly goings on in Sheffield! \nA Talk by Mrs P Dreadful (Jo Johnson Smith) from Steel City Ghost Tours.
URL:https://staging.sheffieldfhs.org.uk/event/january-talk/
LOCATION:Cemetery Road Baptist Chapel\, Napier Street entrance\, Sheffield \, S11 8HA
ATTACH;FMTTYPE=image/png:https://staging.sheffieldfhs.org.uk/wp-content/uploads/2018/11/clipart-back-of-house-13.png
END:VEVENT
END:VCALENDAR