BEGIN:VCALENDAR
VERSION:2.0
PRODID:-//Sheffield Family History Society - ECPv6.15.20//NONSGML v1.0//EN
CALSCALE:GREGORIAN
METHOD:PUBLISH
X-ORIGINAL-URL:https://staging.sheffieldfhs.org.uk
X-WR-CALDESC:Events for Sheffield Family History Society
REFRESH-INTERVAL;VALUE=DURATION:PT1H
X-Robots-Tag:noindex
X-PUBLISHED-TTL:PT1H
BEGIN:VTIMEZONE
TZID:UTC
BEGIN:STANDARD
TZOFFSETFROM:+0000
TZOFFSETTO:+0000
TZNAME:UTC
DTSTART:20190101T000000
END:STANDARD
END:VTIMEZONE
BEGIN:VEVENT
DTSTART;TZID=UTC:20200502T100000
DTEND;TZID=UTC:20200502T160000
DTSTAMP:20260423T113147
CREATED:20191018T165217Z
LAST-MODIFIED:20220214T173927Z
UID:1718-1588413600-1588435200@staging.sheffieldfhs.org.uk
SUMMARY:Sheffield Family History Fair  *POSTPONED*
DESCRIPTION:*POSTPONED TO 2021.   NEW DATE TO BE ARRANGED* \nThe society is pleased to announce that it will be holding its next family history fair at the Royal Victoria Hotel on the 2nd May 2020. \n \nExhibitors Booked for the Fair \nAncestral Routes\nBradfield Historical Society\nBarnsley Family History Society\nChesterfield and District Family History Society\nChris Makepeace Maps\nDore Village Society\nFamily History Federation\nFriends of Rotherham Chapel on the Bridge\nHillsborough & Owlerton Local History Group\nMy History\nPeter Davis\nR A Longley Publications\nQuaker Family History Society\nSheffield & District Family History Society\nSheffield City Archives and Local Studies Library\nSteve Garton Genealogy\nThe Guild of One-Name Studies\nWalkley History Society\nWinpenny Photography\nWyvern Railway Ancestory Research Advice \nPlease return to this page for more details in the coming weeks. \nIf you would like to exhibit at the fair please click on the appropriate booking form below: \nCommercial Booking Form \nBooking Form for Non-profit making organisations
URL:https://staging.sheffieldfhs.org.uk/event/sheffield-family-history-fair-2/
LOCATION:CROWNE PLAZA ROYAL VICTORIA SHEFFIELD HOTEL\, Victoria Station Road\, Sheffield\, S4 7YE (Sat Nav S1 7AU)\, United Kingdom
CATEGORIES:Special Events
ATTACH;FMTTYPE=image/jpeg:https://staging.sheffieldfhs.org.uk/wp-content/uploads/2018/01/IMG_0005.jpg
END:VEVENT
BEGIN:VEVENT
DTSTART;TZID=UTC:20200518T193000
DTEND;TZID=UTC:20200518T210000
DTSTAMP:20260423T113147
CREATED:20200307T154537Z
LAST-MODIFIED:20220214T173926Z
UID:1839-1589830200-1589835600@staging.sheffieldfhs.org.uk
SUMMARY:Away From It All  *CANCELLED*
DESCRIPTION:*THIS MEETING IS CANCELLED*  \nThis month we welcome back Mike Higginbottom who looks at the history of leisure away from home\, covering the spas and watering places that rich people frequented from Tudor times onwards and the seaside holiday towns which grew up in Victorian times when the railway system enabled ordinary working people to enjoy themselves away from home.
URL:https://staging.sheffieldfhs.org.uk/event/away-from-it-all/
LOCATION:Cemetery Road Baptist Chapel\, Napier Street entrance\, Sheffield \, S11 8HA
CATEGORIES:Monday Night Meeting
ATTACH;FMTTYPE=image/jpeg:https://staging.sheffieldfhs.org.uk/wp-content/uploads/2020/03/IMG_20200229_171559.jpg
END:VEVENT
END:VCALENDAR